Package: restfulSE Version: 1.25.0 Command: rm -rf restfulSE.buildbin-libdir && mkdir restfulSE.buildbin-libdir && /Users/biocbuild/BBS/utils/build-universal.sh restfulSE_1.25.0.tar.gz /Library/Frameworks/R.framework/Resources/bin/R restfulSE.buildbin-libdir StartedAt: 2024-02-08 11:28:00 -0500 (Thu, 08 Feb 2024) EndedAt: 2024-02-08 11:29:17 -0500 (Thu, 08 Feb 2024) EllapsedTime: 77.0 seconds RetCode: 0 Status: OK PackageFile: restfulSE_1.25.0.tgz PackageFileSize: 755.1 KiB