Package: restfulSE Version: 1.26.0 Command: /home/biocbuild/R/R-beta-2024-04-15_r86425/bin/R CMD INSTALL restfulSE StartedAt: 2024-05-08 20:23:27 -0000 (Wed, 08 May 2024) EndedAt: 2024-05-08 20:24:14 -0000 (Wed, 08 May 2024) EllapsedTime: 47.0 seconds RetCode: 0 Status: OK