Package: restfulSE Version: 1.26.0 Maintainer: Shweta Gopaulakrishnan MaintainerEmail: shwetagopaul92 at gmail.com git_url: https://git.bioconductor.org/packages/restfulSE git_branch: RELEASE_3_19 git_last_commit: b3e24a6 git_last_commit_date: 2024-04-30 11:00:58 -0400 (Tue, 30 Apr 2024)