Package: regutools Version: 1.16.0 Command: E:\biocbuild\bbs-3.19-bioc\R\bin\R.exe CMD INSTALL regutools StartedAt: 2024-10-16 16:54:57 -0400 (Wed, 16 Oct 2024) EndedAt: 2024-10-16 16:56:11 -0400 (Wed, 16 Oct 2024) EllapsedTime: 74.0 seconds RetCode: 0 Status: OK