Package: regutools Version: 1.16.0 Command: chmod a+r regutools -R && E:\biocbuild\bbs-3.19-bioc\R\bin\R.exe CMD build --keep-empty-dirs --no-resave-data regutools StartedAt: 2024-10-16 21:27:57 -0400 (Wed, 16 Oct 2024) EndedAt: 2024-10-16 21:29:52 -0400 (Wed, 16 Oct 2024) EllapsedTime: 115.7 seconds RetCode: 0 Status: OK PackageFile: regutools_1.16.0.tar.gz PackageFileSize: 359.8 KiB