Package: regutools Version: 1.16.0 Command: rm -rf regutools.buildbin-libdir && mkdir regutools.buildbin-libdir && F:\biocbuild\bbs-3.19-bioc\R\bin\R.exe CMD INSTALL --build --library=regutools.buildbin-libdir regutools_1.16.0.tar.gz StartedAt: 2024-06-27 08:46:14 -0400 (Thu, 27 Jun 2024) EndedAt: 2024-06-27 08:47:33 -0400 (Thu, 27 Jun 2024) EllapsedTime: 79.7 seconds RetCode: 0 Status: OK PackageFile: regutools_1.16.0.zip PackageFileSize: 928.3 KiB