Package: regutools Version: 1.16.0 Command: rm -rf regutools.buildbin-libdir && mkdir regutools.buildbin-libdir && /Users/biocbuild/BBS/utils/build-universal.sh regutools_1.16.0.tar.gz /Library/Frameworks/R.framework/Resources/bin/R regutools.buildbin-libdir StartedAt: 2024-10-18 20:13:27 -0400 (Fri, 18 Oct 2024) EndedAt: 2024-10-18 20:14:48 -0400 (Fri, 18 Oct 2024) EllapsedTime: 80.6 seconds RetCode: 0 Status: OK PackageFile: regutools_1.16.0.tgz PackageFileSize: 946.6 KiB