Package: regsplice Version: 1.30.0 Command: chmod a+r regsplice -R && E:\biocbuild\bbs-3.19-bioc\R\bin\R.exe CMD build --keep-empty-dirs --no-resave-data regsplice StartedAt: 2024-10-16 21:27:39 -0400 (Wed, 16 Oct 2024) EndedAt: 2024-10-16 21:28:46 -0400 (Wed, 16 Oct 2024) EllapsedTime: 66.1 seconds RetCode: 0 Status: OK PackageFile: regsplice_1.30.0.tar.gz PackageFileSize: 287.2 KiB