Package: regsplice Version: 1.30.0 Command: /Library/Frameworks/R.framework/Resources/bin/R CMD build --keep-empty-dirs --no-resave-data regsplice StartedAt: 2024-06-10 03:18:58 -0400 (Mon, 10 Jun 2024) EndedAt: 2024-06-10 03:20:14 -0400 (Mon, 10 Jun 2024) EllapsedTime: 76.6 seconds RetCode: 0 Status: OK PackageFile: regsplice_1.30.0.tar.gz PackageFileSize: 287.2 KiB