Package: regsplice Version: 1.30.0 Command: rm -rf regsplice.buildbin-libdir && mkdir regsplice.buildbin-libdir && /Users/biocbuild/BBS/utils/build-universal.sh regsplice_1.30.0.tar.gz /Library/Frameworks/R.framework/Resources/bin/R regsplice.buildbin-libdir StartedAt: 2024-06-11 12:45:56 -0400 (Tue, 11 Jun 2024) EndedAt: 2024-06-11 12:46:43 -0400 (Tue, 11 Jun 2024) EllapsedTime: 47.7 seconds RetCode: 0 Status: OK PackageFile: regsplice_1.30.0.tgz PackageFileSize: 409.8 KiB