Package: regsplice Version: 1.30.0 Command: /Library/Frameworks/R.framework/Resources/bin/R CMD build --keep-empty-dirs --no-resave-data regsplice StartedAt: 2024-10-17 07:25:46 -0400 (Thu, 17 Oct 2024) EndedAt: 2024-10-17 07:26:49 -0400 (Thu, 17 Oct 2024) EllapsedTime: 63.0 seconds RetCode: 0 Status: OK PackageFile: regsplice_1.30.0.tar.gz PackageFileSize: 287.1 KiB