Package: regsplice Version: 1.30.0 Command: rm -rf regsplice.buildbin-libdir && mkdir regsplice.buildbin-libdir && /Users/biocbuild/BBS/utils/build-universal.sh regsplice_1.30.0.tar.gz /Library/Frameworks/R.framework/Resources/bin/R regsplice.buildbin-libdir StartedAt: 2024-10-18 20:13:24 -0400 (Fri, 18 Oct 2024) EndedAt: 2024-10-18 20:13:57 -0400 (Fri, 18 Oct 2024) EllapsedTime: 32.9 seconds RetCode: 0 Status: OK PackageFile: regsplice_1.30.0.tgz PackageFileSize: 408.6 KiB