Package: regioneReloaded Version: 1.6.0 Command: E:\biocbuild\bbs-3.19-bioc\R\bin\R.exe CMD INSTALL regioneReloaded StartedAt: 2024-10-16 16:31:28 -0400 (Wed, 16 Oct 2024) EndedAt: 2024-10-16 16:32:48 -0400 (Wed, 16 Oct 2024) EllapsedTime: 80.1 seconds RetCode: 0 Status: OK