Package: regioneReloaded Version: 1.6.0 Command: E:\biocbuild\bbs-3.19-bioc\R\bin\R.exe CMD check --no-multiarch --install=check:regioneReloaded.install-out.txt --library=E:\biocbuild\bbs-3.19-bioc\R\library --no-vignettes --timings regioneReloaded_1.6.0.tar.gz StartedAt: 2024-10-17 04:56:29 -0400 (Thu, 17 Oct 2024) EndedAt: 2024-10-17 05:05:08 -0400 (Thu, 17 Oct 2024) EllapsedTime: 519.0 seconds RetCode: 0 Status: OK CheckDir: regioneReloaded.Rcheck Warnings: 0