Package: regioneReloaded Version: 1.6.0 Command: chmod a+r regioneReloaded -R && E:\biocbuild\bbs-3.19-bioc\R\bin\R.exe CMD build --keep-empty-dirs --no-resave-data regioneReloaded StartedAt: 2024-10-16 21:27:27 -0400 (Wed, 16 Oct 2024) EndedAt: 2024-10-16 21:29:09 -0400 (Wed, 16 Oct 2024) EllapsedTime: 102.3 seconds RetCode: 0 Status: OK PackageFile: regioneReloaded_1.6.0.tar.gz PackageFileSize: 2.563 MiB