Package: regioneReloaded Version: 1.6.0 Command: rm -rf regioneReloaded.buildbin-libdir && mkdir regioneReloaded.buildbin-libdir && E:\biocbuild\bbs-3.19-bioc\R\bin\R.exe CMD INSTALL --build --library=regioneReloaded.buildbin-libdir regioneReloaded_1.6.0.tar.gz StartedAt: 2024-10-17 08:28:03 -0400 (Thu, 17 Oct 2024) EndedAt: 2024-10-17 08:29:00 -0400 (Thu, 17 Oct 2024) EllapsedTime: 57.3 seconds RetCode: 0 Status: OK PackageFile: regioneReloaded_1.6.0.zip PackageFileSize: 2.157 MiB