Package: regioneReloaded Version: 1.6.0 Command: chmod a+r regioneReloaded -R && F:\biocbuild\bbs-3.19-bioc\R\bin\R.exe CMD build --keep-empty-dirs --no-resave-data regioneReloaded StartedAt: 2024-06-26 21:20:20 -0400 (Wed, 26 Jun 2024) EndedAt: 2024-06-26 21:21:59 -0400 (Wed, 26 Jun 2024) EllapsedTime: 99.7 seconds RetCode: 0 Status: OK PackageFile: regioneReloaded_1.6.0.tar.gz PackageFileSize: 2.564 MiB