Package: regioneReloaded Version: 1.6.0 Command: rm -rf regioneReloaded.buildbin-libdir && mkdir regioneReloaded.buildbin-libdir && F:\biocbuild\bbs-3.19-bioc\R\bin\R.exe CMD INSTALL --build --library=regioneReloaded.buildbin-libdir regioneReloaded_1.6.0.tar.gz StartedAt: 2024-06-27 08:46:08 -0400 (Thu, 27 Jun 2024) EndedAt: 2024-06-27 08:47:01 -0400 (Thu, 27 Jun 2024) EllapsedTime: 52.8 seconds RetCode: 0 Status: OK PackageFile: regioneReloaded_1.6.0.zip PackageFileSize: 2.159 MiB