Package: regioneReloaded Version: 1.6.0 Command: /home/biocbuild/bbs-3.19-bioc/R/bin/R CMD INSTALL regioneReloaded StartedAt: 2024-10-16 16:09:47 -0400 (Wed, 16 Oct 2024) EndedAt: 2024-10-16 16:10:21 -0400 (Wed, 16 Oct 2024) EllapsedTime: 34.1 seconds RetCode: 0 Status: OK