Package: regioneReloaded Version: 1.6.0 Command: /home/biocbuild/bbs-3.19-bioc/R/bin/R CMD check --install=check:regioneReloaded.install-out.txt --library=/home/biocbuild/bbs-3.19-bioc/R/site-library --timings regioneReloaded_1.6.0.tar.gz StartedAt: 2024-10-17 04:15:53 -0400 (Thu, 17 Oct 2024) EndedAt: 2024-10-17 04:22:58 -0400 (Thu, 17 Oct 2024) EllapsedTime: 425.1 seconds RetCode: 0 Status: OK CheckDir: regioneReloaded.Rcheck Warnings: 0