Package: regioneReloaded Version: 1.6.0 Command: /Library/Frameworks/R.framework/Resources/bin/R CMD INSTALL regioneReloaded StartedAt: 2024-10-16 15:40:35 -0400 (Wed, 16 Oct 2024) EndedAt: 2024-10-16 15:41:53 -0400 (Wed, 16 Oct 2024) EllapsedTime: 78.3 seconds RetCode: 0 Status: OK