Package: regioneReloaded Version: 1.6.0 Command: /home/biocbuild/R/R-beta-2024-04-15_r86425/bin/R CMD INSTALL regioneReloaded StartedAt: 2024-05-08 20:30:34 -0000 (Wed, 08 May 2024) EndedAt: 2024-05-08 20:31:20 -0000 (Wed, 08 May 2024) EllapsedTime: 46.2 seconds RetCode: 0 Status: OK