Package: regioneReloaded Version: 1.6.0 Command: /home/biocbuild/R/R-beta-2024-04-15_r86425/bin/R CMD check --install=check:regioneReloaded.install-out.txt --library=/home/biocbuild/R/R-beta-2024-04-15_r86425/site-library --no-vignettes --timings regioneReloaded_1.6.0.tar.gz StartedAt: 2024-05-09 11:05:32 -0000 (Thu, 09 May 2024) EndedAt: 2024-05-09 11:14:33 -0000 (Thu, 09 May 2024) EllapsedTime: 541.1 seconds RetCode: 0 Status: OK CheckDir: regioneReloaded.Rcheck Warnings: 0