Package: regioneReloaded Version: 1.6.0 Command: /Library/Frameworks/R.framework/Resources/bin/R CMD INSTALL regioneReloaded StartedAt: 2024-10-16 16:44:56 -0400 (Wed, 16 Oct 2024) EndedAt: 2024-10-16 16:45:38 -0400 (Wed, 16 Oct 2024) EllapsedTime: 42.1 seconds RetCode: 0 Status: OK