Package: regioneReloaded Version: 1.6.0 Command: /Library/Frameworks/R.framework/Resources/bin/R CMD build --keep-empty-dirs --no-resave-data regioneReloaded StartedAt: 2024-10-17 07:24:19 -0400 (Thu, 17 Oct 2024) EndedAt: 2024-10-17 07:25:46 -0400 (Thu, 17 Oct 2024) EllapsedTime: 87.3 seconds RetCode: 0 Status: OK PackageFile: regioneReloaded_1.6.0.tar.gz PackageFileSize: 4.037 MiB