Package: regioneReloaded Version: 1.6.0 Command: rm -rf regioneReloaded.buildbin-libdir && mkdir regioneReloaded.buildbin-libdir && /Users/biocbuild/BBS/utils/build-universal.sh regioneReloaded_1.6.0.tar.gz /Library/Frameworks/R.framework/Resources/bin/R regioneReloaded.buildbin-libdir StartedAt: 2024-10-18 20:13:11 -0400 (Fri, 18 Oct 2024) EndedAt: 2024-10-18 20:14:05 -0400 (Fri, 18 Oct 2024) EllapsedTime: 53.2 seconds RetCode: 0 Status: OK PackageFile: regioneReloaded_1.6.0.tgz PackageFileSize: 3.627 MiB