Package: regioneReloaded Version: 1.6.0 Maintainer: Roberto Malinverni MaintainerEmail: roberto.malinverni at gmail.com git_url: https://git.bioconductor.org/packages/regioneReloaded git_branch: RELEASE_3_19 git_last_commit: 6bd799a git_last_commit_date: 2024-04-30 11:44:20 -0400 (Tue, 30 Apr 2024)