Package: regioneR Version: 1.36.0 Command: E:\biocbuild\bbs-3.19-bioc\R\bin\R.exe CMD check --no-multiarch --install=check:regioneR.install-out.txt --library=E:\biocbuild\bbs-3.19-bioc\R\library --no-vignettes --timings regioneR_1.36.0.tar.gz StartedAt: 2024-10-17 04:56:26 -0400 (Thu, 17 Oct 2024) EndedAt: 2024-10-17 05:17:52 -0400 (Thu, 17 Oct 2024) EllapsedTime: 1286.7 seconds RetCode: 0 Status: OK CheckDir: regioneR.Rcheck Warnings: 0