Package: regioneR Version: 1.36.0 Command: rm -rf regioneR.buildbin-libdir && mkdir regioneR.buildbin-libdir && E:\biocbuild\bbs-3.19-bioc\R\bin\R.exe CMD INSTALL --build --library=regioneR.buildbin-libdir regioneR_1.36.0.tar.gz StartedAt: 2024-10-17 08:28:01 -0400 (Thu, 17 Oct 2024) EndedAt: 2024-10-17 08:28:49 -0400 (Thu, 17 Oct 2024) EllapsedTime: 47.8 seconds RetCode: 0 Status: OK PackageFile: regioneR_1.36.0.zip PackageFileSize: 1.61 MiB