Package: regioneR Version: 1.36.0 Command: chmod a+r regioneR -R && F:\biocbuild\bbs-3.19-bioc\R\bin\R.exe CMD build --keep-empty-dirs --no-resave-data regioneR StartedAt: 2024-06-26 21:19:55 -0400 (Wed, 26 Jun 2024) EndedAt: 2024-06-26 21:25:30 -0400 (Wed, 26 Jun 2024) EllapsedTime: 334.8 seconds RetCode: 0 Status: OK PackageFile: regioneR_1.36.0.tar.gz PackageFileSize: 1.698 MiB