Package: regioneR Version: 1.36.0 Command: /Library/Frameworks/R.framework/Resources/bin/R CMD INSTALL regioneR StartedAt: 2024-10-16 15:38:54 -0400 (Wed, 16 Oct 2024) EndedAt: 2024-10-16 15:40:28 -0400 (Wed, 16 Oct 2024) EllapsedTime: 94.2 seconds RetCode: 0 Status: OK