Package: regioneR Version: 1.36.0 Command: /Library/Frameworks/R.framework/Resources/bin/R CMD check --install=check:regioneR.install-out.txt --library=/Library/Frameworks/R.framework/Resources/library --no-vignettes --timings regioneR_1.36.0.tar.gz StartedAt: 2024-06-09 22:31:31 -0400 (Sun, 09 Jun 2024) EndedAt: 2024-06-09 22:39:37 -0400 (Sun, 09 Jun 2024) EllapsedTime: 486.1 seconds RetCode: 0 Status: OK CheckDir: regioneR.Rcheck Warnings: 0