Package: regioneR Version: 1.36.0 Command: /home/biocbuild/R/R-beta-2024-04-15_r86425/bin/R CMD INSTALL regioneR StartedAt: 2024-05-08 20:26:31 -0000 (Wed, 08 May 2024) EndedAt: 2024-05-08 20:27:18 -0000 (Wed, 08 May 2024) EllapsedTime: 46.6 seconds RetCode: 0 Status: OK