Package: regioneR Version: 1.36.0 Command: /home/biocbuild/R/R-beta-2024-04-15_r86425/bin/R CMD build --keep-empty-dirs --no-resave-data regioneR StartedAt: 2024-05-09 02:55:16 -0000 (Thu, 09 May 2024) EndedAt: 2024-05-09 02:57:35 -0000 (Thu, 09 May 2024) EllapsedTime: 139.2 seconds RetCode: 0 Status: OK PackageFile: regioneR_1.36.0.tar.gz PackageFileSize: 1.773 MiB