Package: regioneR Version: 1.36.0 Command: rm -rf regioneR.buildbin-libdir && mkdir regioneR.buildbin-libdir && /Users/biocbuild/BBS/utils/build-universal.sh regioneR_1.36.0.tar.gz /Library/Frameworks/R.framework/Resources/bin/R regioneR.buildbin-libdir StartedAt: 2024-10-18 20:12:43 -0400 (Fri, 18 Oct 2024) EndedAt: 2024-10-18 20:13:35 -0400 (Fri, 18 Oct 2024) EllapsedTime: 52.0 seconds RetCode: 0 Status: OK PackageFile: regioneR_1.36.0.tgz PackageFileSize: 1.803 MiB