Package: regionalpcs Version: 1.2.0 Command: chmod a+r regionalpcs -R && F:\biocbuild\bbs-3.19-bioc\R\bin\R.exe CMD build --keep-empty-dirs --no-resave-data regionalpcs StartedAt: 2024-06-26 21:19:45 -0400 (Wed, 26 Jun 2024) EndedAt: 2024-06-26 21:20:24 -0400 (Wed, 26 Jun 2024) EllapsedTime: 39.2 seconds RetCode: 0 Status: OK PackageFile: regionalpcs_1.2.0.tar.gz PackageFileSize: 470.1 KiB