Package: regionalpcs Version: 1.2.0 Command: rm -rf regionalpcs.buildbin-libdir && mkdir regionalpcs.buildbin-libdir && /Users/biocbuild/BBS/utils/build-universal.sh regionalpcs_1.2.0.tar.gz /Library/Frameworks/R.framework/Resources/bin/R regionalpcs.buildbin-libdir StartedAt: 2024-10-17 16:57:39 -0400 (Thu, 17 Oct 2024) EndedAt: 2024-10-17 16:57:44 -0400 (Thu, 17 Oct 2024) EllapsedTime: 5.2 seconds RetCode: 0 Status: OK PackageFile: regionalpcs_1.2.0.tgz PackageFileSize: 476.4 KiB