Package: regionalpcs Version: 1.2.0 Command: /Library/Frameworks/R.framework/Resources/bin/R CMD check --install=check:regionalpcs.install-out.txt --library=/Library/Frameworks/R.framework/Resources/library --no-vignettes --timings regionalpcs_1.2.0.tar.gz StartedAt: 2024-06-09 22:31:19 -0400 (Sun, 09 Jun 2024) EndedAt: 2024-06-09 22:32:11 -0400 (Sun, 09 Jun 2024) EllapsedTime: 51.1 seconds RetCode: 0 Status: OK CheckDir: regionalpcs.Rcheck Warnings: 0