Package: regionalpcs Version: 1.2.0 Command: rm -rf regionalpcs.buildbin-libdir && mkdir regionalpcs.buildbin-libdir && /Users/biocbuild/BBS/utils/build-universal.sh regionalpcs_1.2.0.tar.gz /Library/Frameworks/R.framework/Resources/bin/R regionalpcs.buildbin-libdir StartedAt: 2024-06-11 12:45:19 -0400 (Tue, 11 Jun 2024) EndedAt: 2024-06-11 12:45:25 -0400 (Tue, 11 Jun 2024) EllapsedTime: 6.7 seconds RetCode: 0 Status: OK PackageFile: regionalpcs_1.2.0.tgz PackageFileSize: 476.6 KiB