Package: regionReport Version: 1.38.0 Command: E:\biocbuild\bbs-3.19-bioc\R\bin\R.exe CMD INSTALL regionReport StartedAt: 2024-10-16 16:45:25 -0400 (Wed, 16 Oct 2024) EndedAt: 2024-10-16 16:46:16 -0400 (Wed, 16 Oct 2024) EllapsedTime: 51.3 seconds RetCode: 0 Status: OK