Package: regionReport Version: 1.38.0 Command: chmod a+r regionReport -R && E:\biocbuild\bbs-3.19-bioc\R\bin\R.exe CMD build --keep-empty-dirs --no-resave-data regionReport StartedAt: 2024-10-16 21:27:32 -0400 (Wed, 16 Oct 2024) EndedAt: 2024-10-16 21:28:58 -0400 (Wed, 16 Oct 2024) EllapsedTime: 85.7 seconds RetCode: 0 Status: OK PackageFile: regionReport_1.38.0.tar.gz PackageFileSize: 644.7 KiB