Package: regionReport Version: 1.38.0 Command: rm -rf regionReport.buildbin-libdir && mkdir regionReport.buildbin-libdir && E:\biocbuild\bbs-3.19-bioc\R\bin\R.exe CMD INSTALL --build --library=regionReport.buildbin-libdir regionReport_1.38.0.tar.gz StartedAt: 2024-10-17 08:28:05 -0400 (Thu, 17 Oct 2024) EndedAt: 2024-10-17 08:28:55 -0400 (Thu, 17 Oct 2024) EllapsedTime: 50.3 seconds RetCode: 0 Status: OK PackageFile: regionReport_1.38.0.zip PackageFileSize: 703.1 KiB