Package: regionReport Version: 1.38.0 Command: rm -rf regionReport.buildbin-libdir && mkdir regionReport.buildbin-libdir && F:\biocbuild\bbs-3.19-bioc\R\bin\R.exe CMD INSTALL --build --library=regionReport.buildbin-libdir regionReport_1.38.0.tar.gz StartedAt: 2024-06-27 08:46:10 -0400 (Thu, 27 Jun 2024) EndedAt: 2024-06-27 08:47:23 -0400 (Thu, 27 Jun 2024) EllapsedTime: 72.4 seconds RetCode: 0 Status: OK PackageFile: regionReport_1.38.0.zip PackageFileSize: 703.1 KiB