Package: regionReport Version: 1.38.0 Command: /home/biocbuild/R/R-beta-2024-04-15_r86425/bin/R CMD INSTALL regionReport StartedAt: 2024-05-08 20:37:52 -0000 (Wed, 08 May 2024) EndedAt: 2024-05-08 20:38:55 -0000 (Wed, 08 May 2024) EllapsedTime: 63.1 seconds RetCode: 0 Status: OK