Package: regionReport Version: 1.38.0 Command: /Library/Frameworks/R.framework/Resources/bin/R CMD check --install=check:regionReport.install-out.txt --library=/Library/Frameworks/R.framework/Resources/library --no-vignettes --timings regionReport_1.38.0.tar.gz StartedAt: 2024-06-11 02:49:32 -0400 (Tue, 11 Jun 2024) EndedAt: 2024-06-11 03:04:49 -0400 (Tue, 11 Jun 2024) EllapsedTime: 916.5 seconds RetCode: 0 Status: OK CheckDir: regionReport.Rcheck Warnings: 0