Package: regionReport Version: 1.38.0 Command: /Library/Frameworks/R.framework/Resources/bin/R CMD build --keep-empty-dirs --no-resave-data regionReport StartedAt: 2024-06-10 03:18:27 -0400 (Mon, 10 Jun 2024) EndedAt: 2024-06-10 03:20:09 -0400 (Mon, 10 Jun 2024) EllapsedTime: 101.8 seconds RetCode: 0 Status: OK PackageFile: regionReport_1.38.0.tar.gz PackageFileSize: 643.8 KiB