Package: regionReport Version: 1.38.0 Maintainer: Leonardo Collado-Torres MaintainerEmail: lcolladotor at gmail.com git_url: https://git.bioconductor.org/packages/regionReport git_branch: RELEASE_3_19 git_last_commit: a503cf3 git_last_commit_date: 2024-04-30 10:39:22 -0400 (Tue, 30 Apr 2024)