Package: recoup Version: 1.32.0 Command: chmod a+r recoup -R && E:\biocbuild\bbs-3.19-bioc\R\bin\R.exe CMD build --keep-empty-dirs --no-resave-data recoup StartedAt: 2024-10-16 21:26:39 -0400 (Wed, 16 Oct 2024) EndedAt: 2024-10-16 21:27:55 -0400 (Wed, 16 Oct 2024) EllapsedTime: 76.9 seconds RetCode: 0 Status: OK PackageFile: recoup_1.32.0.tar.gz PackageFileSize: 2.252 MiB