Package: recoup Version: 1.32.0 Command: F:\biocbuild\bbs-3.19-bioc\R\bin\R.exe CMD INSTALL recoup StartedAt: 2024-06-26 16:07:53 -0400 (Wed, 26 Jun 2024) EndedAt: 2024-06-26 16:08:52 -0400 (Wed, 26 Jun 2024) EllapsedTime: 59.7 seconds RetCode: 0 Status: OK