Package: recoup Version: 1.32.0 Command: /home/biocbuild/bbs-3.19-bioc/R/bin/R CMD INSTALL recoup StartedAt: 2024-10-16 16:15:26 -0400 (Wed, 16 Oct 2024) EndedAt: 2024-10-16 16:16:08 -0400 (Wed, 16 Oct 2024) EllapsedTime: 42.3 seconds RetCode: 0 Status: OK